BEGIN:VCALENDAR
VERSION:2.0
PRODID:-//ChamberMaster//Event Calendar 2.0//EN
METHOD:PUBLISH
X-PUBLISHED-TTL:P3D
REFRESH-INTERVAL:P3D
CALSCALE:GREGORIAN
BEGIN:VEVENT
DTSTART:20231209T170000Z
DTEND:20231209T190000Z
X-MICROSOFT-CDO-ALLDAYEVENT:FALSE
SUMMARY:Visit with Santa
DESCRIPTION:That jolly old elf will be coming to the Old North State Food Hall on December 9 from 12-2pm. Bring your wish lists!
X-ALT-DESC;FMTTYPE=text/html:<span style="background-color:rgb(255\, 255\, 255)\; color:rgb(5\, 5\, 5)\; font-family:system-ui\,-apple-system\,system-ui\,.sfnstext-regular\,sans-serif\; font-size:15px">That jolly old elf will be coming to the Old North State Food Hall on December 9 from 12-2pm. Bring your wish lists!</span>
LOCATION:Old North State Food Hall 67 Jr Rd Suite 300 Selma NC 27576
UID:e.614.11117
SEQUENCE:3
DTSTAMP:20260421T164622Z
URL:https://business.triangleeastchamber.com/events/details/visit-with-santa-12-09-2023-11117
END:VEVENT

END:VCALENDAR
