BEGIN:VCALENDAR
VERSION:2.0
PRODID:-//ChamberMaster//Event Calendar 2.0//EN
METHOD:PUBLISH
X-PUBLISHED-TTL:P3D
REFRESH-INTERVAL:P3D
CALSCALE:GREGORIAN
BEGIN:VEVENT
DTSTART:20201026T040000Z
DTEND:20201026T210000Z
X-MICROSOFT-CDO-ALLDAYEVENT:FALSE
SUMMARY:Virtual Costume Contest
DESCRIPTION:Dress up in your best costume and enter the Selma Parks and Recreation Virtual Costume Contest. One winner for each category. Winners will receive a custom prize bag full of goodies. Categories are: *Scariest *Funniest *Most Creative *Cutest *Best Couple *Prettiest *Weirdest *Most Gory *Best Sports Player *Best Handmade Snap your photo and submit it to Selmaparksandrec@selma-nc.com by 5pm\, Monday\, October 26th. Winners announced on our Facebook page Wednesday\, October 28th. Thank you for participating in our virtual events! Have a safe and happy Halloween!
X-ALT-DESC;FMTTYPE=text/html:Dress up in your best costume and enter the Selma Parks and Recreation Virtual Costume Contest. One winner for each category. Winners will receive a custom prize bag full of goodies. Categories are: *Scariest *Funniest *Most Creative *Cutest *Best Couple *Prettiest *Weirdest *Most Gory *Best Sports Player *Best Handmade Snap your photo and submit it to Selmaparksandrec@selma-nc.com by 5pm\, Monday\, October 26th. Winners announced on our Facebook page Wednesday\, October 28th. Thank you for participating in our virtual events! Have a safe and happy Halloween!
LOCATION:Virtual Contest - submit photos to Selma Parks and Recreation
UID:e.614.9231
SEQUENCE:3
DTSTAMP:20260421T113621Z
URL:https://business.triangleeastchamber.com/events/details/virtual-costume-contest-9231
END:VEVENT

END:VCALENDAR
