BEGIN:VCALENDAR
VERSION:2.0
PRODID:-//ChamberMaster//Event Calendar 2.0//EN
METHOD:PUBLISH
X-PUBLISHED-TTL:P3D
REFRESH-INTERVAL:P3D
CALSCALE:GREGORIAN
BEGIN:VEVENT
DTSTART:20240822T220000Z
DTEND:20240822T233000Z
X-MICROSOFT-CDO-ALLDAYEVENT:FALSE
SUMMARY:thrivent: Diversified Flower Arranging to match your Diversified Portfolio
DESCRIPTION:Creating a bouquet that symbolizes a diversified financial portfolio involves selecting a variety of flowers that represent different qualities such as stability\, growth\, resilience\, and beauty. Here's a conceptual arrangement:\n\n\n\nRoses: Represent stability and core holdings in a portfolio\, akin to blue-chip stocks or bonds.\n\n\n\nTulips: Symbolize growth and potential\, similar to emerging markets or high-growth stocks.\n\n\n\nOrchids: Known for their resilience and adaptability\, like investments that weather economic changes well.\n\n\n\nSunflowers: Signify optimism and potential future returns\, akin to investments in innovative sectors or new technologies.\n\n\n\nLilies: Represent balance and calmness\, reflecting diversified investments across various asset classes.\n\n\n\nDaisies: Symbolize simplicity and practicality\, akin to conservative investments like cash or fixed-income securities.\n\n\n\nPeonies: Symbolize prosperity and good fortune\, akin to successful investments and financial goals achieved.\n\n\n\nBy combining these flowers in a bouquet\, you create a visual representation of a diversified financial portfolio a blend of stability\, growth potential\, resilience\, and beauty that mirrors a well-balanced investment strategy.
X-ALT-DESC;FMTTYPE=text/html:Creating a bouquet that symbolizes a diversified financial portfolio involves selecting a variety of flowers that represent different qualities such as stability\, growth\, resilience\, and beauty. Here&#39\;s a conceptual arrangement:<br />\n<br />\n<strong>Roses: </strong>Represent stability and core holdings in a portfolio\, akin to blue-chip stocks or bonds.<br />\n<br />\n<strong>Tulips:</strong> Symbolize growth and potential\, similar to emerging markets or high-growth stocks.<br />\n<br />\n<strong>Orchids:</strong> Known for their resilience and adaptability\, like investments that weather economic changes well.<br />\n<br />\n<strong>Sunflowers:</strong> Signify optimism and potential future returns\, akin to investments in innovative sectors or new technologies.<br />\n<br />\n<strong>Lilies: </strong>Represent balance and calmness\, reflecting diversified investments across various asset classes.<br />\n<br />\n<strong>Daisies:</strong> Symbolize simplicity and practicality\, akin to conservative investments like cash or fixed-income securities.<br />\n<br />\n<strong>Peonies: </strong>Symbolize prosperity and good fortune\, akin to successful investments and financial goals achieved.<br />\n<br />\nBy combining these flowers in a bouquet\, you create a visual representation of a diversified financial portfolio&mdash\;a blend of stability\, growth potential\, resilience\, and beauty that mirrors a well-balanced investment strategy.
LOCATION:Hinson's Printing 1294 West Market Street Smithfield
UID:e.614.11677
SEQUENCE:3
DTSTAMP:20260421T132625Z
URL:https://business.triangleeastchamber.com/events/details/thrivent-diversified-flower-arranging-to-match-your-diversified-portfolio-11677
END:VEVENT

END:VCALENDAR
