BEGIN:VCALENDAR
VERSION:2.0
PRODID:-//ChamberMaster//Event Calendar 2.0//EN
METHOD:PUBLISH
X-PUBLISHED-TTL:P3D
REFRESH-INTERVAL:P3D
CALSCALE:GREGORIAN
BEGIN:VEVENT
DTSTART:20240823T230000Z
DTEND:20240824T000000Z
X-MICROSOFT-CDO-ALLDAYEVENT:FALSE
SUMMARY:Summer Sound Bath Series
DESCRIPTION:Summer Sound Bath Series at Dr. Mindi's Starline Property!\n\n$25/person : Sign up: www.briowellness.com/signups
X-ALT-DESC;FMTTYPE=text/html:Summer Sound Bath Series at Dr. Mindi&#39\;s Starline Property!<br />\n$25/person : Sign up: www.briowellness.com/signups
LOCATION:Dr. Mindi's Starline Property - Location shared after signing up
UID:e.614.11629
SEQUENCE:3
DTSTAMP:20260421T132201Z
URL:https://business.triangleeastchamber.com/events/details/summer-sound-bath-series-08-23-2024-11629
END:VEVENT

END:VCALENDAR
