BEGIN:VCALENDAR
VERSION:2.0
PRODID:-//ChamberMaster//Event Calendar 2.0//EN
METHOD:PUBLISH
X-PUBLISHED-TTL:P3D
REFRESH-INTERVAL:P3D
CALSCALE:GREGORIAN
BEGIN:VEVENT
DTSTART:20210611T223000Z
DTEND:20210612T010000Z
X-MICROSOFT-CDO-ALLDAYEVENT:FALSE
SUMMARY:Summer Movie Night
DESCRIPTION:Bring a chair and enjoy a FREE movie! Come by to the Selma Public Library parking lot (301 N. Pollock Street) at 6:30 pm. We will show a variety of movies ALL SUMMER!\n\n\n\nJune 11: Wonder\n\nJuly 9: Scoob!\n\nAugust 13: Mulan\n\nSeptember 10: CoCo\n\n\n\nFore more information or questions\, contact Selma Parks and Recreation at 919-975-1411.
X-ALT-DESC;FMTTYPE=text/html:Bring a chair and enjoy a FREE movie! Come by to the Selma Public Library parking lot (301 N. Pollock Street) at 6:30 pm. We will show a variety of movies ALL SUMMER!<br />\n<br />\nJune 11: Wonder<br />\nJuly 9: Scoob!<br />\nAugust 13: Mulan<br />\nSeptember 10: CoCo<br />\n<br />\nFore more information or questions\, contact Selma Parks and Recreation at 919-975-1411.
LOCATION:Selma Public Library 301 N. Pollock Street Selma\, NC
UID:e.614.9535
SEQUENCE:3
DTSTAMP:20260419T192102Z
URL:https://business.triangleeastchamber.com/events/details/summer-movie-night-9535
END:VEVENT

END:VCALENDAR
