BEGIN:VCALENDAR
VERSION:2.0
PRODID:-//ChamberMaster//Event Calendar 2.0//EN
METHOD:PUBLISH
X-PUBLISHED-TTL:P3D
REFRESH-INTERVAL:P3D
CALSCALE:GREGORIAN
BEGIN:VEVENT
DTSTART:20250712T120000Z
DTEND:20250712T160000Z
X-MICROSOFT-CDO-ALLDAYEVENT:FALSE
SUMMARY:Smithfield Signautre Fresh Market
DESCRIPTION:Meet our local farmers and enjoy locally grown produce\, meats\, and more!  We're excited to bring the community together around something as essential and joyful as a hometown Farmers Market.
X-ALT-DESC;FMTTYPE=text/html:<span style="background-color:rgb(240\, 244\, 249)\; color:rgb(31\, 31\, 31)\; font-family:google sans\,roboto\,arial\,sans-serif\; font-size:14px">Meet our local farmers and enjoy locally grown produce\, meats\, and more! &nbsp\;We&rsquo\;re excited to bring the community together around something as essential and joyful as a hometown Farmers Market.</span>
LOCATION:Located in the parking lot at 3rd Street S and Johnston Street
UID:e.614.12225
SEQUENCE:3
DTSTAMP:20260421T085621Z
URL:https://business.triangleeastchamber.com/events/details/smithfield-signautre-fresh-market-12225
END:VEVENT

END:VCALENDAR
