BEGIN:VCALENDAR
VERSION:2.0
PRODID:-//ChamberMaster//Event Calendar 2.0//EN
METHOD:PUBLISH
X-PUBLISHED-TTL:P3D
REFRESH-INTERVAL:P3D
CALSCALE:GREGORIAN
BEGIN:VEVENT
DTSTART;VALUE=DATE:20201009
DTEND;VALUE=DATE:20201010
TRANSP:TRANSPARENT
X-MICROSOFT-CDO-ALLDAYEVENT:TRUE
SUMMARY:Skyfest Over JoCo
DESCRIPTION:The Triangle East Chamber of Commerce\, along with the US Veterans Corps and Johnston County Regional Airport\, are thrilled to announce that Skyfest Over JoCo is coming to the skies of Johnston County on Friday\, October 9th and Saturday\, October 10th! \n \n\nAlthough COVID-19 restrictions would not allow for Skyfest to be held at Johnston County's airport\, the Triangle East Chamber took the lead to bring the excitement to the residents of the county. In such a challenging year\, Mike Mancuso felt it was important to show solidarity and support for both Johnston County's frontline workers and emergency responders. \n \n\nF-15s\, flown by Ryan "Maddog" Matis and Weapon System Officer\, Captain Steven "Rocko" Cripe\, will be flying a route that includes sky-time over each Johnston County community. On Saturday\, the Bandit Flight Team will fly through the county and perform the Missing Man formation over the center of Clayton. This event will be in honor of Jason Dean\, Clayton firefighter who recently passed away due to COVID-19.\n \n\n*****************************\n\nFlight Times \n \n\nFriday\, October 9th  \n\nBenson: 12:00 \n\nMcGee Crossing:12:02:30\n\nClayton: 12:03\n\nArcher Lodge: 12:04:30\n\nHare Crossroads: 12:05:30\n\nKenly: 12:07\n\nMicro: 12:08\n\nSelma: 12:08:30\n\nSmithfield: 12:09\n\nFour Oaks: 12:10\n\nWilson Mills: 12:11:30\n\nPine Level: 12:13\n\nPrinceton: 12:14\n\nSmithfield: 12:16\n\nFour Oaks: 12:17\n\nPeacocks Crossroad: 12:18\n\n \n\nPlease know that the times may be up to 30" off.\n\n \n\nSaturday\, October 10th\n\nClayton: 12:00 \n\n \n\n\n\n\nOur Aircrew\n\nPilot: Ryan "Maddog" Matis is a Captain in the United States Air Force. Currently he is serving as an instructor pilot in the 333rd Fighter Squadron known as the Lancers. Captain Matis has over 7 years of service and 1200 hours of flight time in the F-15E Strike Eagle with over 533.3 combat hours throughout multiple deployments to the Middle East. Captain Matis's accomplishments include 4 Air Medals for combat related events and is the current Chief of Safety in the 333rd Fighter Squadron.\n\n \n\nWeapon System Officer: Captain Steven "Rocko" Cripe is currently serving as an instructor weapon system officer in the 333rd Fighter Squadron known as the Lancers. Captain Cripe has over 8 years of service and has accumulated 1600 hours of flight time in the F-15E Strike Eagle with over 933.3 combat hours throughout multiple deployments to the Middle East. Captain Cripe's accomplishments include 7 air medals for combat related events and is the current Chief of Mission Planning in the 333rd Fighter Squadron.
X-ALT-DESC;FMTTYPE=text/html:<p dir="ltr" style="line-height: 1.38\; margin-top: 0pt\; margin-bottom: 0pt\;"><span id="docs-internal-guid-e81e14ad-7fff-a143-b404-3f686befe333"><span style="font-size: 11pt\; font-family: Arial\; color: rgb(0\, 0\, 0)\; background-color: transparent\; font-variant-numeric: normal\; font-variant-east-asian: normal\; vertical-align: baseline\; white-space: pre-wrap\;">The Triangle East Chamber of Commerce\, along with the US Veterans Corps and Johnston County Regional Airport\, are thrilled to announce that Skyfest Over JoCo is coming to the skies of Johnston County on Friday\, October 9th and Saturday\, October 10th!&nbsp\;</span></span></p>\n&nbsp\;\n\n<p dir="ltr" style="line-height: 1.38\; margin-top: 0pt\; margin-bottom: 0pt\;"><span id="docs-internal-guid-e81e14ad-7fff-a143-b404-3f686befe333"><span style="font-size: 11pt\; font-family: Arial\; color: rgb(0\, 0\, 0)\; background-color: transparent\; font-variant-numeric: normal\; font-variant-east-asian: normal\; vertical-align: baseline\; white-space: pre-wrap\;">Although COVID-19 restrictions would not allow for Skyfest to be held at Johnston County&rsquo\;s airport\, the Triangle East Chamber took the lead to bring the excitement to the residents of the county. In such a challenging year\, Mike Mancuso felt it was important to show solidarity and support for both Johnston County&rsquo\;s frontline workers and emergency responders.&nbsp\;</span></span></p>\n&nbsp\;\n\n<p dir="ltr" style="line-height: 1.38\; margin-top: 0pt\; margin-bottom: 0pt\;"><span id="docs-internal-guid-e81e14ad-7fff-a143-b404-3f686befe333"><span style="font-size: 11pt\; font-family: Arial\; color: rgb(0\, 0\, 0)\; background-color: transparent\; font-variant-numeric: normal\; font-variant-east-asian: normal\; vertical-align: baseline\; white-space: pre-wrap\;">F-15s\, flown by </span><span style="font-size: 11pt\; font-family: Arial\; color: rgb(34\, 34\, 34)\; background-color: transparent\; font-variant-numeric: normal\; font-variant-east-asian: normal\; vertical-align: baseline\; white-space: pre-wrap\;">Ryan &ldquo\;Maddog&rdquo\; Matis and Weapon System Officer\, Captain Steven &ldquo\;Rocko&rdquo\; Cripe</span><span style="font-size: 11pt\; font-family: Arial\; color: rgb(0\, 0\, 0)\; background-color: transparent\; font-variant-numeric: normal\; font-variant-east-asian: normal\; vertical-align: baseline\; white-space: pre-wrap\;">\, will be flying a route that includes sky-time over each Johnston County community. On Saturday\, the Bandit Flight Team will fly through the county and perform the Missing Man formation over the center of Clayton. This event will be in honor of Jason Dean\, Clayton firefighter who recently passed away due to COVID-19.</span></span></p>\n&nbsp\;\n\n<p dir="ltr" style="line-height: 1.38\; text-align: center\; margin-top: 0pt\; margin-bottom: 0pt\;"><span id="docs-internal-guid-e81e14ad-7fff-a143-b404-3f686befe333"><span style="font-size: 11pt\; font-family: Arial\; color: rgb(0\, 0\, 0)\; background-color: transparent\; font-variant-numeric: normal\; font-variant-east-asian: normal\; vertical-align: baseline\; white-space: pre-wrap\;">*****************************</span></span></p>\n\n<p dir="ltr" style="line-height: 1.38\; margin-top: 0pt\; margin-bottom: 0pt\;"><span id="docs-internal-guid-e81e14ad-7fff-a143-b404-3f686befe333"><span style="font-size: 11pt\; font-family: Arial\; color: rgb(0\, 0\, 0)\; background-color: transparent\; font-weight: 700\; font-variant-numeric: normal\; font-variant-east-asian: normal\; text-decoration-line: underline\; text-decoration-skip-ink: none\; vertical-align: baseline\; white-space: pre-wrap\;">Flight Times&nbsp\;</span></span></p>\n&nbsp\;\n\n<p dir="ltr" style="line-height: 1.38\; margin-top: 0pt\; margin-bottom: 0pt\;"><span id="docs-internal-guid-e81e14ad-7fff-a143-b404-3f686befe333"><span style="font-size: 11pt\; font-family: Arial\; color: rgb(34\, 34\, 34)\; background-color: transparent\; font-weight: 700\; font-variant-numeric: normal\; font-variant-east-asian: normal\; vertical-align: baseline\; white-space: pre-wrap\;">Friday\, October 9th&nbsp\;&nbsp\;</span></span></p>\n\n<p dir="ltr" style="line-height: 1.38\; margin-top: 0pt\; margin-bottom: 0pt\;"><span id="docs-internal-guid-e81e14ad-7fff-a143-b404-3f686befe333"><span style="font-size: 11pt\; font-family: Arial\; color: rgb(34\, 34\, 34)\; background-color: transparent\; font-variant-numeric: normal\; font-variant-east-asian: normal\; vertical-align: baseline\; white-space: pre-wrap\;">Benson: 12:00&nbsp\;</span></span></p>\n\n<p dir="ltr" style="line-height: 1.38\; margin-top: 0pt\; margin-bottom: 0pt\;"><span id="docs-internal-guid-e81e14ad-7fff-a143-b404-3f686befe333"><span style="font-size: 11pt\; font-family: Arial\; color: rgb(34\, 34\, 34)\; background-color: transparent\; font-variant-numeric: normal\; font-variant-east-asian: normal\; vertical-align: baseline\; white-space: pre-wrap\;">McGee Crossing:12:02:30</span></span></p>\n\n<p dir="ltr" style="line-height: 1.38\; margin-top: 0pt\; margin-bottom: 0pt\;"><span id="docs-internal-guid-e81e14ad-7fff-a143-b404-3f686befe333"><span style="font-size: 11pt\; font-family: Arial\; color: rgb(34\, 34\, 34)\; background-color: transparent\; font-variant-numeric: normal\; font-variant-east-asian: normal\; vertical-align: baseline\; white-space: pre-wrap\;">Clayton: 12:03</span></span></p>\n\n<p dir="ltr" style="line-height: 1.38\; margin-top: 0pt\; margin-bottom: 0pt\;"><span id="docs-internal-guid-e81e14ad-7fff-a143-b404-3f686befe333"><span style="font-size: 11pt\; font-family: Arial\; color: rgb(34\, 34\, 34)\; background-color: transparent\; font-variant-numeric: normal\; font-variant-east-asian: normal\; vertical-align: baseline\; white-space: pre-wrap\;">Archer Lodge: 12:04:30</span></span></p>\n\n<p dir="ltr" style="line-height: 1.38\; margin-top: 0pt\; margin-bottom: 0pt\;"><span id="docs-internal-guid-e81e14ad-7fff-a143-b404-3f686befe333"><span style="font-size: 11pt\; font-family: Arial\; color: rgb(34\, 34\, 34)\; background-color: transparent\; font-variant-numeric: normal\; font-variant-east-asian: normal\; vertical-align: baseline\; white-space: pre-wrap\;">Hare Crossroads: 12:05:30</span></span></p>\n\n<p dir="ltr" style="line-height: 1.38\; margin-top: 0pt\; margin-bottom: 0pt\;"><span id="docs-internal-guid-e81e14ad-7fff-a143-b404-3f686befe333"><span style="font-size: 11pt\; font-family: Arial\; color: rgb(34\, 34\, 34)\; background-color: transparent\; font-variant-numeric: normal\; font-variant-east-asian: normal\; vertical-align: baseline\; white-space: pre-wrap\;">Kenly: 12:07</span></span></p>\n\n<p dir="ltr" style="line-height: 1.38\; margin-top: 0pt\; margin-bottom: 0pt\;"><span id="docs-internal-guid-e81e14ad-7fff-a143-b404-3f686befe333"><span style="font-size: 11pt\; font-family: Arial\; color: rgb(34\, 34\, 34)\; background-color: transparent\; font-variant-numeric: normal\; font-variant-east-asian: normal\; vertical-align: baseline\; white-space: pre-wrap\;">Micro: 12:08</span></span></p>\n\n<p dir="ltr" style="line-height: 1.38\; margin-top: 0pt\; margin-bottom: 0pt\;"><span id="docs-internal-guid-e81e14ad-7fff-a143-b404-3f686befe333"><span style="font-size: 11pt\; font-family: Arial\; color: rgb(34\, 34\, 34)\; background-color: transparent\; font-variant-numeric: normal\; font-variant-east-asian: normal\; vertical-align: baseline\; white-space: pre-wrap\;">Selma: 12:08:30</span></span></p>\n\n<p dir="ltr" style="line-height: 1.38\; margin-top: 0pt\; margin-bottom: 0pt\;"><span id="docs-internal-guid-e81e14ad-7fff-a143-b404-3f686befe333"><span style="font-size: 11pt\; font-family: Arial\; color: rgb(34\, 34\, 34)\; background-color: transparent\; font-variant-numeric: normal\; font-variant-east-asian: normal\; vertical-align: baseline\; white-space: pre-wrap\;">Smithfield: 12:09</span></span></p>\n\n<p dir="ltr" style="line-height: 1.38\; margin-top: 0pt\; margin-bottom: 0pt\;"><span id="docs-internal-guid-e81e14ad-7fff-a143-b404-3f686befe333"><span style="font-size: 11pt\; font-family: Arial\; color: rgb(34\, 34\, 34)\; background-color: transparent\; font-variant-numeric: normal\; font-variant-east-asian: normal\; vertical-align: baseline\; white-space: pre-wrap\;">Four Oaks: 12:10</span></span></p>\n\n<p dir="ltr" style="line-height: 1.38\; margin-top: 0pt\; margin-bottom: 0pt\;"><span id="docs-internal-guid-e81e14ad-7fff-a143-b404-3f686befe333"><span style="font-size: 11pt\; font-family: Arial\; color: rgb(34\, 34\, 34)\; background-color: transparent\; font-variant-numeric: normal\; font-variant-east-asian: normal\; vertical-align: baseline\; white-space: pre-wrap\;">Wilson Mills: 12:11:30</span></span></p>\n\n<p dir="ltr" style="line-height: 1.38\; margin-top: 0pt\; margin-bottom: 0pt\;"><span id="docs-internal-guid-e81e14ad-7fff-a143-b404-3f686befe333"><span style="font-size: 11pt\; font-family: Arial\; color: rgb(34\, 34\, 34)\; background-color: transparent\; font-variant-numeric: normal\; font-variant-east-asian: normal\; vertical-align: baseline\; white-space: pre-wrap\;">Pine Level: 12:13</span></span></p>\n\n<p dir="ltr" style="line-height: 1.38\; margin-top: 0pt\; margin-bottom: 0pt\;"><span id="docs-internal-guid-e81e14ad-7fff-a143-b404-3f686befe333"><span style="font-size: 11pt\; font-family: Arial\; color: rgb(34\, 34\, 34)\; background-color: transparent\; font-variant-numeric: normal\; font-variant-east-asian: normal\; vertical-align: baseline\; white-space: pre-wrap\;">Princeton: 12:14</span></span></p>\n\n<p dir="ltr" style="line-height: 1.38\; margin-top: 0pt\; margin-bottom: 0pt\;"><span id="docs-internal-guid-e81e14ad-7fff-a143-b404-3f686befe333"><span style="font-size: 11pt\; font-family: Arial\; color: rgb(34\, 34\, 34)\; background-color: transparent\; font-variant-numeric: normal\; font-variant-east-asian: normal\; vertical-align: baseline\; white-space: pre-wrap\;">Smithfield: 12:16</span></span></p>\n\n<p dir="ltr" style="line-height: 1.38\; margin-top: 0pt\; margin-bottom: 0pt\;"><span id="docs-internal-guid-e81e14ad-7fff-a143-b404-3f686befe333"><span style="font-size: 11pt\; font-family: Arial\; color: rgb(34\, 34\, 34)\; background-color: transparent\; font-variant-numeric: normal\; font-variant-east-asian: normal\; vertical-align: baseline\; white-space: pre-wrap\;">Four Oaks: 12:17</span></span></p>\n\n<p dir="ltr" style="line-height: 1.38\; margin-top: 0pt\; margin-bottom: 0pt\;"><span id="docs-internal-guid-e81e14ad-7fff-a143-b404-3f686befe333"><span style="font-size: 11pt\; font-family: Arial\; color: rgb(34\, 34\, 34)\; background-color: transparent\; font-variant-numeric: normal\; font-variant-east-asian: normal\; vertical-align: baseline\; white-space: pre-wrap\;">Peacocks Crossroad: 12:18</span></span></p>\n\n<p dir="ltr" style="line-height: 1.38\; margin-top: 0pt\; margin-bottom: 0pt\;"><span id="docs-internal-guid-e81e14ad-7fff-a143-b404-3f686befe333"><span style="font-size: 11pt\; font-family: Arial\; color: rgb(34\, 34\, 34)\; background-color: transparent\; font-variant-numeric: normal\; font-variant-east-asian: normal\; vertical-align: baseline\; white-space: pre-wrap\;">&nbsp\;</span></span></p>\n\n<p dir="ltr" style="line-height: 1.38\; margin-top: 0pt\; margin-bottom: 0pt\;"><span id="docs-internal-guid-e81e14ad-7fff-a143-b404-3f686befe333"><span style="font-size: 11pt\; font-family: Arial\; color: rgb(34\, 34\, 34)\; background-color: transparent\; font-style: italic\; font-variant-numeric: normal\; font-variant-east-asian: normal\; vertical-align: baseline\; white-space: pre-wrap\;">Please know that the times may be up to 30&rdquo\; off.</span></span><br />\n&nbsp\;</p>\n\n<p dir="ltr" style="line-height: 1.38\; margin-top: 0pt\; margin-bottom: 0pt\;"><span id="docs-internal-guid-e81e14ad-7fff-a143-b404-3f686befe333"><span style="font-size: 11pt\; font-family: Arial\; color: rgb(34\, 34\, 34)\; background-color: transparent\; font-weight: 700\; font-variant-numeric: normal\; font-variant-east-asian: normal\; vertical-align: baseline\; white-space: pre-wrap\;">Saturday\, October 10th</span></span></p>\n\n<p dir="ltr" style="line-height: 1.38\; margin-top: 0pt\; margin-bottom: 0pt\;"><span id="docs-internal-guid-e81e14ad-7fff-a143-b404-3f686befe333"><span style="font-size: 11pt\; font-family: Arial\; color: rgb(34\, 34\, 34)\; background-color: transparent\; font-variant-numeric: normal\; font-variant-east-asian: normal\; vertical-align: baseline\; white-space: pre-wrap\;">Clayton: 12:00&nbsp\;</span></span></p>\n\n<p dir="ltr" style="line-height: 1.38\; margin-top: 0pt\; margin-bottom: 0pt\;"><span id="docs-internal-guid-e81e14ad-7fff-a143-b404-3f686befe333"><span style="font-size: 11pt\; font-family: Arial\; color: rgb(34\, 34\, 34)\; background-color: transparent\; font-variant-numeric: normal\; font-variant-east-asian: normal\; vertical-align: baseline\; white-space: pre-wrap\;">&nbsp\;</span></span></p>\n<br />\n<br />\n<strong>Our Aircrew</strong><br />\n<span style="font-family:calibri\,sans-serif\;"><span style="font-size:11pt\;">Pilot: Ryan &ldquo\;Maddog&rdquo\; Matis is a Captain in the United States Air Force. Currently he is serving as an instructor pilot in the 333<sup>rd</sup>&nbsp\;Fighter Squadron known as the Lancers. Captain Matis has over 7 years of service and 1200 hours of flight time in the F-15E Strike Eagle with over 533.3 combat hours throughout multiple deployments to the Middle East. Captain Matis&rsquo\;s accomplishments include 4 Air Medals for combat related events and is the current Chief of Safety in the 333<sup>rd</sup>&nbsp\;Fighter Squadron.</span></span><br />\n&nbsp\;<br />\n<span style="font-family:calibri\,sans-serif\;"><span style="font-size:11pt\;">Weapon System Officer: Captain Steven &ldquo\;Rocko&rdquo\; Cripe is currently serving as an instructor weapon system officer in the 333<sup>rd</sup>&nbsp\;Fighter Squadron known as the Lancers. Captain Cripe has over 8 years of service and has accumulated 1600 hours of flight time in the F-15E Strike Eagle with over 933.3 combat hours throughout multiple deployments to the Middle East. Captain Cripe&rsquo\;s accomplishments include 7 air medals for combat related events and is the current Chief of Mission Planning in the 333<sup>rd</sup>&nbsp\;Fighter Squadron.</span></span><br />\n&nbsp\;
LOCATION:
UID:e.614.9229
SEQUENCE:3
DTSTAMP:20260421T113649Z
URL:https://business.triangleeastchamber.com/events/details/skyfest-over-joco-9229
END:VEVENT

END:VCALENDAR
