BEGIN:VCALENDAR
VERSION:2.0
PRODID:-//ChamberMaster//Event Calendar 2.0//EN
METHOD:PUBLISH
X-PUBLISHED-TTL:P3D
REFRESH-INTERVAL:P3D
CALSCALE:GREGORIAN
BEGIN:VEVENT
DTSTART:20240819T230000Z
DTEND:20240820T010000Z
X-MICROSOFT-CDO-ALLDAYEVENT:FALSE
SUMMARY:Sacred Seasons Women's Circle ~ August
DESCRIPTION:Come experience the powerful practice of a woman's circle\, an opportunity for intuitive exploration and heartfelt expression\, where we come together in sacred ceremony.\n\nInherent in our DNA\, gathering in Circle is a part of our ancient ancestral lineages. As women\, we have a magnificent ability to heal one another simply by paying witness\, listening to and receiving each other with an open + accepting heart.\n\nIt's nothing less than magic.\n\nEach month will be centered around a certain theme that aligns with the energy of that cycle. Together we will explore the essential medicine of each theme and how we can weave into our everyday lives.\n\n \n\nThe focus for August is Weave and the threads that will be woven in are \n\n-  Activating yourself as the bridge between spirit & matter\n\n-  Sourcing cycles & seasons as supportive structures for creation\n\n-  Discerning the sovereign ways you choose to be of service
X-ALT-DESC;FMTTYPE=text/html:<p>Come experience the powerful practice of a woman&rsquo\;s circle\, an opportunity for intuitive exploration and heartfelt expression\, where we come together in sacred ceremony.</p>\n\n<p>Inherent in our DNA\, gathering in Circle is a part of our ancient ancestral lineages. As women\, we have a magnificent ability to heal one another simply by paying witness\, listening to and receiving each other with an open + accepting heart.</p>\n\n<p>It&rsquo\;s nothing less than magic.</p>\n\n<p>Each month will be centered around a certain theme that aligns with the energy of that cycle. Together we will explore the essential medicine of each theme and how we can weave into our everyday lives.</p>\n\n<p>&nbsp\;</p>\n\n<p>The focus for August is<strong>&nbsp\;Weave&nbsp\;</strong>and the threads that will be woven in are&hellip\;</p>\n\n<p>-&nbsp\; Activating yourself as the bridge between spirit &amp\; matter</p>\n\n<p>-&nbsp\; Sourcing cycles &amp\; seasons as supportive structures for creation</p>\n\n<p>-&nbsp\; Discerning the sovereign ways you choose to be of service</p>\n\n<p>&nbsp\;</p>\n
LOCATION:Mystical Mysti Candles
UID:e.614.11688
SEQUENCE:3
DTSTAMP:20260421T132339Z
URL:https://business.triangleeastchamber.com/events/details/sacred-seasons-women-s-circle-august-11688
END:VEVENT

END:VCALENDAR
