BEGIN:VCALENDAR
VERSION:2.0
PRODID:-//ChamberMaster//Event Calendar 2.0//EN
METHOD:PUBLISH
X-PUBLISHED-TTL:P3D
REFRESH-INTERVAL:P3D
CALSCALE:GREGORIAN
BEGIN:VEVENT
DTSTART:20221007T120000Z
DTEND:20221007T200000Z
X-MICROSOFT-CDO-ALLDAYEVENT:FALSE
SUMMARY:Live2Lead Clayton 2022
DESCRIPTION:In this can't miss event\, Dr. John C. Maxwell\, and other world-class leaders will teach practical lessons designed to help individuals in all spheres of influence grow to their maximum potential. The 8th annual Live2Lead event is coming to Clayton\, NC as a LIVE Simulcast event being broadcast from the stage in Atlanta\, GA and shown in hundreds of locations around the globe. The Live2Lead experience is being brought to The Clayton Center in downtown Clayton\, NC on Friday\, October 7th by Eric J. Schmieder\, a Maxwell Leadership Certified Team (MLCT) Member! This year's speaker lineup includes: John C. Maxwell\, Patrick Lencioni\, Eric Thomas\, Dr. Tim Elmore\, and Doris Kearns Goodwin. The Live2Lead event is an incredible half-day experience with world-class leadership experts sharing their wisdom with audiences around the world\, but here in Clayton\, we're adding even more value to the experience. In concert with Clive Harding\, an MLCT Member in Winter Haven\, FL\, we will host a live stream connection between these two host sites\, share experiences\, and deliver two bonus leadership sessions for all-day participants!
X-ALT-DESC;FMTTYPE=text/html:In this can&rsquo\;t miss event\, Dr. John C. Maxwell\, and other world-class leaders will teach practical lessons designed to help individuals in all spheres of influence grow to their maximum potential. The 8th annual Live2Lead event is coming to Clayton\, NC as a LIVE Simulcast event being broadcast from the stage in Atlanta\, GA and shown in hundreds of locations around the globe. The Live2Lead experience is being brought to The Clayton Center in downtown Clayton\, NC on Friday\, October 7th by Eric J. Schmieder\, a Maxwell Leadership Certified Team (MLCT) Member! This year&rsquo\;s speaker lineup includes: John C. Maxwell\, Patrick Lencioni\, Eric Thomas\, Dr. Tim Elmore\, and Doris Kearns Goodwin. The Live2Lead event is an incredible half-day experience with world-class leadership experts sharing their wisdom with audiences around the world\, but here in Clayton\, we&rsquo\;re adding even more value to the experience. In concert with Clive Harding\, an MLCT Member in Winter Haven\, FL\, we will host a live stream connection between these two host sites\, share experiences\, and deliver two bonus leadership sessions for all-day participants!
LOCATION:The Clayton Center 111 E Second St Clayton\, NC 27520
UID:e.614.9882
SEQUENCE:3
DTSTAMP:20260422T131511Z
URL:https://business.triangleeastchamber.com/events/details/live2lead-clayton-2022-9882
END:VEVENT

END:VCALENDAR
