BEGIN:VCALENDAR
VERSION:2.0
PRODID:-//ChamberMaster//Event Calendar 2.0//EN
METHOD:PUBLISH
X-PUBLISHED-TTL:P3D
REFRESH-INTERVAL:P3D
CALSCALE:GREGORIAN
BEGIN:VEVENT
DTSTART:20240806T223000Z
DTEND:20240807T000000Z
X-MICROSOFT-CDO-ALLDAYEVENT:FALSE
SUMMARY:LaunchJOCO Information Session
DESCRIPTION:ENTREPRENEURS WANTED\n\nWant to learn more about LaunchJOCO (Johnston County)?  LaunchJOCO supports and develops entrepreneurs and small businesses in the Johnston County region by providing access to business resources\, business training/development services with a seasoned business mentor\, and networking opportunities.  This FREE information session will provide entrepreneurs and small business owners with details about this multi-faceted program. \n\n\n\nJoin us to learn more!\n\n\n\nTo register click here
X-ALT-DESC;FMTTYPE=text/html:<h2 class="wsite-content-title" style="overflow-wrap: break-word\; margin: 0px auto 20px\; padding: 0px\; text-align: center\; color: rgb(18\, 47\, 82) !important\; font-family: Montserrat !important\; font-size: 19px !important\; line-height: 24px !important\;"><strong><font size="7">ENTREPRENEURS WANTED</font></strong></h2>\n\n<div class="paragraph" style="overflow-wrap: break-word\; margin: 0px auto 30px\; padding: 0px\; font-size: 16px\; letter-spacing: 0.02em\; text-align: center\; font-family: Montserrat !important\; line-height: 30px !important\; color: rgb(18\, 47\, 82) !important\;"><span style="font-size:16px\;"><span style="font-family:arial\;"><span style="color: rgb(18\, 47\, 82)\; letter-spacing: 0.32px\;">Want to learn more about LaunchJOCO&nbsp\;(Johnston County)?&nbsp\; LaunchJOCO supports and develops entrepreneurs and small businesses in the Johnston County region by providing&nbsp\;access to business resources\, business training/development services with a seasoned business mentor\, and networking opportunities.&nbsp\; This FREE information session will provide entrepreneurs and small business owners with details about this multi-faceted program.&nbsp\;<br />\n<br />\nJoin us to learn more!<br />\n<br />\nTo register <a href="https://web.claytonchamber.com/atlas/events/launchjocoinformation%20session%20%20august%206-5239/register">click here</a></span></span></span></div>\n
LOCATION:Triangle East Chamber Offices 1115 Outlet Center Drive Smithfield\, NC Victorian House next to Cracker Barrel
UID:e.614.11683
SEQUENCE:3
DTSTAMP:20260421T131347Z
URL:https://business.triangleeastchamber.com/events/details/launchjoco-information-session-11683
END:VEVENT

END:VCALENDAR
