BEGIN:VCALENDAR
VERSION:2.0
PRODID:-//ChamberMaster//Event Calendar 2.0//EN
METHOD:PUBLISH
X-PUBLISHED-TTL:P3D
REFRESH-INTERVAL:P3D
CALSCALE:GREGORIAN
BEGIN:VEVENT
DTSTART:20221110T220000Z
DTEND:20221111T010000Z
X-MICROSOFT-CDO-ALLDAYEVENT:FALSE
SUMMARY:Kiwanis Club of Smithfield's Annual Pancake Supper
DESCRIPTION:Kiwanis Club of Smithfield's Annual Pancake Supper for Kid's Charities - Dine In or Take Out
X-ALT-DESC;FMTTYPE=text/html:Kiwanis Club of Smithfield&#39\;s Annual Pancake Supper for Kid&#39\;s Charities - Dine In or Take Out
LOCATION:Centenary United Methodist Church Fellowship Hall
UID:e.614.10104
SEQUENCE:3
DTSTAMP:20260422T120615Z
URL:https://business.triangleeastchamber.com/events/details/kiwanis-club-of-smithfield-s-annual-pancake-supper-10104
END:VEVENT

END:VCALENDAR
