BEGIN:VCALENDAR
VERSION:2.0
PRODID:-//ChamberMaster//Event Calendar 2.0//EN
METHOD:PUBLISH
X-PUBLISHED-TTL:P3D
REFRESH-INTERVAL:P3D
CALSCALE:GREGORIAN
BEGIN:VEVENT
DTSTART:20210715T230000Z
DTEND:20210716T010000Z
X-MICROSOFT-CDO-ALLDAYEVENT:FALSE
SUMMARY:JWL New Member Interest Meeting - Benson
DESCRIPTION:Interested in becoming a member of the Junior Women's League of Smithfield\, NC? Join us at 7:00 p.m. on July 15 to meet some of our current members and learn more about JWL's work in Johnston County! \n\n\n\nThe Junior Women's League of Smithfield is open to all women (from Johnston County and beyond) ages 22 and older who possess an interest in voluntarism and a commitment to community service. Be sure to attend one of the new member interest meetings if you are thinking about joining and would like to know what JWL is all about. You will have the opportunity to talk with current members and hear about what we've accomplished since January 2016.\n\n\n\nMembership applications will be accepted through July 31 at www.jwlsmithfield.com/join-jwl.\n\n\n\nFour partial membership scholarships are also available for anyone who is committed to the work of JWL\, but for whom the membership dues may present a hardship\; the scholarship application is available at www.jwlsmithfield.com and the deadline to apply is July 21.\n\n\n\nAdditional information is available at www.jwlsmithfield.com. Feel free to contact us at jwlsmithfield@gmail.com with any questions you may have. We look forward to meeting you!
X-ALT-DESC;FMTTYPE=text/html:Interested in becoming a member of the Junior Women&#39\;s League of Smithfield\, NC? Join us at 7:00 p.m. on July 15 to meet some of our current members and learn more about JWL&#39\;s work in Johnston County!&nbsp\;<br />\n<br />\nThe Junior Women&#39\;s League of Smithfield is open to all women (from Johnston County and beyond) ages 22 and older who possess an interest in voluntarism and a commitment to community service. Be sure to attend one of the new member interest meetings if you are thinking about joining and would like to know what JWL is all about. You will have the opportunity to talk with current members and hear about what we&#39\;ve accomplished since January 2016.<br />\n<br />\nMembership applications will be accepted through July 31 at www.jwlsmithfield.com/join-jwl.<br />\n<br />\nFour partial membership scholarships are also available for anyone who is committed to the work of JWL\, but for whom the membership dues may present a hardship\; the scholarship application is available at www.jwlsmithfield.com and the deadline to apply is July 21.<br />\n<br />\nAdditional information is available at www.jwlsmithfield.com. Feel free to contact us at jwlsmithfield@gmail.com with any questions you may have. We look forward to meeting you!&nbsp\;
LOCATION:Fainting Goat Brewing Company\, located at 102 W. Parrish Drive in Benson
UID:e.614.9569
SEQUENCE:3
DTSTAMP:20260421T142500Z
URL:https://business.triangleeastchamber.com/events/details/jwl-new-member-interest-meeting-benson-9569
END:VEVENT

END:VCALENDAR
