BEGIN:VCALENDAR
VERSION:2.0
PRODID:-//ChamberMaster//Event Calendar 2.0//EN
METHOD:PUBLISH
X-PUBLISHED-TTL:P3D
REFRESH-INTERVAL:P3D
CALSCALE:GREGORIAN
BEGIN:VEVENT
DTSTART:20240814T223000Z
DTEND:20240815T003000Z
X-MICROSOFT-CDO-ALLDAYEVENT:FALSE
SUMMARY:Information Session on Discover Italy Trip
DESCRIPTION:The Chamber is traveling to Italy in October 2025!\n\nAre you ready to pack your bags? Or do you have some questions?\n\n\nJoin us for this virtual session to learn about this amazing trip that includes Venice\, Florence\, and Rome!\n\n\n\nOur information session is virtual. Register for the session to receive the zoom link for the meeting. We can't wait to tell you more about this FABULOUS adventure!
X-ALT-DESC;FMTTYPE=text/html:<div style="text-align: center\;"><span style="font-family:tahoma\;"><span style="font-size:14px\;"><strong>The Chamber is traveling to Italy in October 2025!</strong><br />\n<em>Are you ready to pack your bags? Or do you have some questions?</em></span></span></div>\n<br />\n<span style="font-family:tahoma\;"><span style="font-size:14px\;">Join us for this virtual session to learn about this amazing trip that includes Venice\, Florence\, and Rome!<br />\n<br />\nOur information session is virtual. Register for the session to receive the zoom link for the meeting. We can&#39\;t wait to tell you more about this FABULOUS adventure!</span></span><br />\n<br />\n<br />\n&nbsp\;
LOCATION:Virtual Register through this link
UID:e.614.11690
SEQUENCE:3
DTSTAMP:20260421T131942Z
URL:https://business.triangleeastchamber.com/events/details/information-session-on-discover-italy-trip-11690
END:VEVENT

END:VCALENDAR
