BEGIN:VCALENDAR
VERSION:2.0
PRODID:-//ChamberMaster//Event Calendar 2.0//EN
METHOD:PUBLISH
X-PUBLISHED-TTL:P3D
REFRESH-INTERVAL:P3D
CALSCALE:GREGORIAN
BEGIN:VEVENT
DTSTART:20240809T220000Z
DTEND:20240810T010000Z
X-MICROSOFT-CDO-ALLDAYEVENT:FALSE
SUMMARY:Fridays on Third Downtown Smthfieeld
DESCRIPTION:Come enjoy an evening of fun for the whole family!  \n\n\n\nLive music by 2Digh4 Acoustic Duo\, craft beer and lots of fun local vendors!
X-ALT-DESC;FMTTYPE=text/html:<div style="text-align: center\;"><span style="font-size:16px\;"><span style="font-family:tahoma\;"><strong>Come enjoy an evening of fun for the whole family! &nbsp\;</strong><br />\n<br />\nLive music by 2Digh4 Acoustic Duo\, craft beer and lots of fun local vendors! &nbsp\;</span></span></div>\n
LOCATION:Downtown Smithfield on Third Street South\, between Market and Johnston.
UID:e.614.11692
SEQUENCE:3
DTSTAMP:20260421T113648Z
URL:https://business.triangleeastchamber.com/events/details/fridays-on-third-downtown-smthfieeld-11692
END:VEVENT

END:VCALENDAR
