BEGIN:VCALENDAR
VERSION:2.0
PRODID:-//ChamberMaster//Event Calendar 2.0//EN
METHOD:PUBLISH
X-PUBLISHED-TTL:P3D
REFRESH-INTERVAL:P3D
CALSCALE:GREGORIAN
BEGIN:VEVENT
DTSTART:20330816T160000Z
DTEND:20330816T170000Z
X-MICROSOFT-CDO-ALLDAYEVENT:FALSE
SUMMARY:Foundation Board Meeting
DESCRIPTION:
X-ALT-DESC;FMTTYPE=text/html:
LOCATION:
UID:e.614.12330
SEQUENCE:3
DTSTAMP:20260426T011124Z
URL:https://business.triangleeastchamber.com/events/details/foundation-board-meeting-08-16-2033-12330
END:VEVENT

END:VCALENDAR
