BEGIN:VCALENDAR
VERSION:2.0
PRODID:-//ChamberMaster//Event Calendar 2.0//EN
METHOD:PUBLISH
X-PUBLISHED-TTL:P3D
REFRESH-INTERVAL:P3D
CALSCALE:GREGORIAN
BEGIN:VEVENT
DTSTART:20221109T140000Z
DTEND:20221109T150000Z
X-MICROSOFT-CDO-ALLDAYEVENT:FALSE
SUMMARY:Finance Committee Meeting
DESCRIPTION:Finance Committee Meeting
X-ALT-DESC;FMTTYPE=text/html:Finance Committee Meeting
LOCATION:at the Triangle East Chamber office with a Zoom option available.
UID:e.614.9635
SEQUENCE:3
DTSTAMP:20260422T120525Z
URL:https://business.triangleeastchamber.com/events/details/finance-committee-meeting-11-09-2022-9635
END:VEVENT

END:VCALENDAR
