BEGIN:VCALENDAR
VERSION:2.0
PRODID:-//ChamberMaster//Event Calendar 2.0//EN
METHOD:PUBLISH
X-PUBLISHED-TTL:P3D
REFRESH-INTERVAL:P3D
CALSCALE:GREGORIAN
BEGIN:VEVENT
DTSTART:20240814T140000Z
DTEND:20240814T150000Z
X-MICROSOFT-CDO-ALLDAYEVENT:FALSE
SUMMARY:Executive Board Meeting
DESCRIPTION:
X-ALT-DESC;FMTTYPE=text/html:
LOCATION:
UID:e.614.11322
SEQUENCE:3
DTSTAMP:20260421T131835Z
URL:https://business.triangleeastchamber.com/events/details/executive-board-meeting-08-14-2024-11322
END:VEVENT

END:VCALENDAR
