BEGIN:VCALENDAR
VERSION:2.0
PRODID:-//ChamberMaster//Event Calendar 2.0//EN
METHOD:PUBLISH
X-PUBLISHED-TTL:P3D
REFRESH-INTERVAL:P3D
CALSCALE:GREGORIAN
BEGIN:VEVENT
DTSTART:20201022T130000Z
DTEND:20201022T140000Z
X-MICROSOFT-CDO-ALLDAYEVENT:FALSE
SUMMARY:Economic Development Council Meeting
DESCRIPTION:
X-ALT-DESC;FMTTYPE=text/html:
LOCATION:
UID:e.614.8498
SEQUENCE:3
DTSTAMP:20260421T114144Z
URL:https://business.triangleeastchamber.com/events/details/economic-development-council-meeting-10-22-2020-8498
END:VEVENT

END:VCALENDAR
