BEGIN:VCALENDAR
VERSION:2.0
PRODID:-//ChamberMaster//Event Calendar 2.0//EN
METHOD:PUBLISH
X-PUBLISHED-TTL:P3D
REFRESH-INTERVAL:P3D
CALSCALE:GREGORIAN
BEGIN:VEVENT
DTSTART:20231202T150000Z
DTEND:20231202T220000Z
X-MICROSOFT-CDO-ALLDAYEVENT:FALSE
SUMMARY:Deck the Doors Open House Tour
DESCRIPTION:Deck the Doors Open House Tours is free event\, open to the public. Visit https://deckthedoorsnc.com/ for more information and to access the map with the location of all the new homes.
X-ALT-DESC;FMTTYPE=text/html:Deck the Doors Open House Tours is free event\, open to the public. Visit https://deckthedoorsnc.com/ for more information and to access the map with the location of all the new homes.
LOCATION:Johnston County and surrounding counties
UID:e.614.11125
SEQUENCE:3
DTSTAMP:20260421T164131Z
URL:https://business.triangleeastchamber.com/events/details/deck-the-doors-open-house-tour-11125
END:VEVENT

END:VCALENDAR
