BEGIN:VCALENDAR
VERSION:2.0
PRODID:-//ChamberMaster//Event Calendar 2.0//EN
METHOD:PUBLISH
X-PUBLISHED-TTL:P3D
REFRESH-INTERVAL:P3D
CALSCALE:GREGORIAN
BEGIN:VEVENT
DTSTART:20221006T120000Z
DTEND:20221006T133000Z
X-MICROSOFT-CDO-ALLDAYEVENT:FALSE
SUMMARY:Coffee Connections Hosted by Coates Hearing Clinic
DESCRIPTION:Coffee Connections are structured networking events that are designed to give you time to meet others in the Chamber and business community and are opportunities for growing your customer base! \n\nIt's free to attend\, but please pre-register and bring your business card!
X-ALT-DESC;FMTTYPE=text/html:<div style="text-align: center\;"><span background-color:="" font-size:="" style="color: rgb(51\, 51\, 51)\; font-family: sans-serif\, Arial\, Verdana\, " trebuchet="">Coffee Connections are structured networking events that are designed to give you time to meet others in the Chamber and business community and are opportunities for growing your customer base!&nbsp\;</span></div>\n\n<div style="text-align: center\;"><strong><span background-color:="" font-size:="" style="color: rgb(51\, 51\, 51)\; font-family: sans-serif\, Arial\, Verdana\, " trebuchet="">It&#39\;s free to attend\, but please pre-register and bring your business card!&nbsp\;</span></strong></div>\n
LOCATION:
UID:e.614.9843
SEQUENCE:3
DTSTAMP:20260422T132120Z
URL:https://business.triangleeastchamber.com/events/details/coffee-connections-hosted-by-coates-hearing-clinic-9843
END:VEVENT

END:VCALENDAR
