BEGIN:VCALENDAR
VERSION:2.0
PRODID:-//ChamberMaster//Event Calendar 2.0//EN
METHOD:PUBLISH
X-PUBLISHED-TTL:P3D
REFRESH-INTERVAL:P3D
CALSCALE:GREGORIAN
BEGIN:VEVENT
DTSTART:20201004T170000Z
DTEND:20201004T200000Z
X-MICROSOFT-CDO-ALLDAYEVENT:FALSE
SUMMARY:Afternoon Market at ARTmosphere
DESCRIPTION:Leisurely stroll the grounds and browse original art and crafts showcased by local artists and crafters.
X-ALT-DESC;FMTTYPE=text/html:Leisurely stroll the grounds and browse original art and crafts showcased by local artists and crafters.
LOCATION:
UID:e.614.9217
SEQUENCE:3
DTSTAMP:20260421T114214Z
URL:https://business.triangleeastchamber.com/events/details/afternoon-market-at-artmosphere-9217
END:VEVENT

END:VCALENDAR
