BEGIN:VCALENDAR
VERSION:2.0
PRODID:-//ChamberMaster//Event Calendar 2.0//EN
METHOD:PUBLISH
X-PUBLISHED-TTL:P3D
REFRESH-INTERVAL:P3D
CALSCALE:GREGORIAN
BEGIN:VEVENT
DTSTART:20260502T120000Z
DTEND:20260503T000000Z
X-MICROSOFT-CDO-ALLDAYEVENT:FALSE
SUMMARY:40th Annual Ham & Yam Festival
DESCRIPTION:Join us for heritage and history in the making! We're celebrating 40 years of the Ham & Yam Festival\, and it's set to be our biggest yet.\n\nStart your morning with the Hog Trot and Piglet Stampede brought to you by Smithfield Parks & Recreation\, grab a legendary Kiwanis Ham Biscuit\, or a pulled pork sandwich from the Whole Hog BBQ Competition. With three stages of live performances\, pig races\, and local chef Christopher Lopez whipping up sweet potato masterpieces\, there's never a dull moment.\n\nExplore the Kids Inflatable Zone\, challenge your friends in the Adult Fun Zone (featuring Gelly Ball and Escape Rooms)\, or marvel at our mascots Hammy T. Biscuit and Sweetpotato Cassie being brought to life by a professional woodcarver. From antique tractors to a massive car show\, the fun truly doesn't stop!\n\nGrand Finale: After the festival gates close\, head over to the Neuse River Amphitheatre at 7:00 p.m. for a FREE Sister Hazel concert! \n\n\n\nBig Thanks to Agri-Supply\, Stevens Sausage\, Aruza Pest Control\, WRAL\, 94.7 QDR\, Carolina Packers\, Duke Energy\, Amazon\, Brightspeed Fiber Internet\, Kornegay Farms\, The Tarva Group\, CarStar Auto Body of Smithfield\, and our other amazing sponsors for their support\, we couldn't have this festival without them.
X-ALT-DESC;FMTTYPE=text/html:<p>Join us for heritage and history in the making! We&rsquo\;re celebrating 40 years of the Ham &amp\; Yam Festival\, and it&rsquo\;s set to be our biggest yet.</p>\n\n<p>Start your morning with the Hog Trot and Piglet Stampede brought to you by Smithfield Parks &amp\; Recreation\, grab a legendary Kiwanis Ham Biscuit\, or a pulled pork sandwich from the Whole Hog BBQ Competition. With three stages of live performances\, pig races\, and local chef Christopher Lopez whipping up sweet potato masterpieces\, there&rsquo\;s never a dull moment.</p>\n\n<p>Explore the Kids Inflatable Zone\, challenge your friends in the Adult Fun Zone (featuring Gelly Ball and Escape Rooms)\, or marvel at our mascots Hammy T. Biscuit and Sweetpotato Cassie being brought to life by a professional woodcarver. From antique tractors to a massive car show\, the fun truly doesn&#39\;t stop!</p>\n\n<p><strong>Grand Finale:</strong> After the festival gates close\, head over to the Neuse River Amphitheatre at 7:00 p.m. for a <strong>FREE Sister Hazel concert!</strong>&nbsp\;<br />\n<br />\nBig Thanks to Agri-Supply\, Stevens Sausage\, Aruza Pest Control\, WRAL\, 94.7 QDR\, Carolina Packers\, Duke Energy\, Amazon\, Brightspeed Fiber Internet\, Kornegay Farms\, The Tarva Group\, CarStar Auto Body of Smithfield\, and our other amazing sponsors for their support\, we couldn&#39\;t have this festival without them.&nbsp\;&nbsp\;</p>\n
LOCATION:Downtown Smithfield There will be a park and ride shuttle from CarStar Auto Body of Smithfield. Parking in downtown Smithfield is limited.
UID:e.614.12846
SEQUENCE:3
DTSTAMP:20260420T222517Z
URL:https://business.triangleeastchamber.com/events/details/40th-annual-ham-yam-festival-12846
END:VEVENT

END:VCALENDAR
