BEGIN:VCALENDAR
VERSION:2.0
PRODID:-//ChamberMaster//Event Calendar 2.0//EN
METHOD:PUBLISH
X-PUBLISHED-TTL:P3D
REFRESH-INTERVAL:P3D
CALSCALE:GREGORIAN
BEGIN:VEVENT
DTSTART:20221003T160000Z
DTEND:20221003T170000Z
X-MICROSOFT-CDO-ALLDAYEVENT:FALSE
SUMMARY:Workforce Development Meeting
DESCRIPTION:Workforce Development Meeting
X-ALT-DESC;FMTTYPE=text/html:Workforce Development Meeting
LOCATION:Zoom
UID:e.614.9698
SEQUENCE:3
DTSTAMP:20260422T091741Z
URL:http://business.triangleeastchamber.com/events/details/workforce-development-meeting-10-03-2022-9698
END:VEVENT

END:VCALENDAR
