BEGIN:VCALENDAR
VERSION:2.0
PRODID:-//ChamberMaster//Event Calendar 2.0//EN
METHOD:PUBLISH
X-PUBLISHED-TTL:P3D
REFRESH-INTERVAL:P3D
CALSCALE:GREGORIAN
BEGIN:VEVENT
DTSTART:20220801T160000Z
DTEND:20220801T170000Z
X-MICROSOFT-CDO-ALLDAYEVENT:FALSE
SUMMARY:Workforce Development Meeting
DESCRIPTION:Workforce Development Meeting
X-ALT-DESC;FMTTYPE=text/html:Workforce Development Meeting
LOCATION:Zoom
UID:e.614.9696
SEQUENCE:3
DTSTAMP:20260423T030646Z
URL:http://business.triangleeastchamber.com/events/details/workforce-development-meeting-08-01-2022-9696
END:VEVENT

END:VCALENDAR
