BEGIN:VCALENDAR
VERSION:2.0
PRODID:-//ChamberMaster//Event Calendar 2.0//EN
METHOD:PUBLISH
X-PUBLISHED-TTL:P3D
REFRESH-INTERVAL:P3D
CALSCALE:GREGORIAN
BEGIN:VEVENT
DTSTART:20211206T170000Z
DTEND:20211206T180000Z
X-MICROSOFT-CDO-ALLDAYEVENT:FALSE
SUMMARY:Workforce Development Committee Meeting
DESCRIPTION:
X-ALT-DESC;FMTTYPE=text/html:
LOCATION:
UID:e.614.9309
SEQUENCE:3
DTSTAMP:20260424T111221Z
URL:http://business.triangleeastchamber.com/events/details/workforce-development-committee-meeting-12-06-2021-9309
END:VEVENT

END:VCALENDAR
