BEGIN:VCALENDAR
VERSION:2.0
PRODID:-//ChamberMaster//Event Calendar 2.0//EN
METHOD:PUBLISH
X-PUBLISHED-TTL:P3D
REFRESH-INTERVAL:P3D
CALSCALE:GREGORIAN
BEGIN:VEVENT
DTSTART:20250510T150000Z
DTEND:20250510T160000Z
X-MICROSOFT-CDO-ALLDAYEVENT:FALSE
SUMMARY:"We Cannot Forget: Telling Our Stories of War"
DESCRIPTION:"We Cannot Forget: Telling Our Stories of War at Home and on the Battlefield"\n\nMemoir presentation with Barbara Presnell\n\nAward-winning NC poet and educator\n\n-sponsored by Neuse River Writers and the Johnston County Arts Council-\n\n\nFree\, open to the public. Presnell's new memoir\, "Otherwise\, I'm Fine\," delves into themes of grief and healing\, and follows the narrative of traveling across Europe to follow her father's WWII trek from Omaha Beach to Elbe.\n\n\n\nMay 8 is the 80th anniversary of VE (Victory in Europe) Day.
X-ALT-DESC;FMTTYPE=text/html:<div style="text-align: center\;"><strong>&quot\;We Cannot Forget: Telling Our Stories of War at Home and on the Battlefield&quot\;<br />\nMemoir presentation with Barbara Presnell<br />\nAward-winning NC poet and educator<br />\n-sponsored by Neuse River Writers and the Johnston County Arts Council-</strong></div>\n<br />\nFree\, open to the public. Presnell&#39\;s new memoir\, &quot\;Otherwise\, I&#39\;m Fine\,&quot\; delves into themes of grief and healing\, and follows the narrative of traveling across Europe to follow her father&#39\;s WWII trek from Omaha Beach to Elbe.<br />\n<br />\nMay 8 is the 80th anniversary of VE (Victory in Europe) Day.
LOCATION:The Johnston County Museum\,
UID:e.614.12197
SEQUENCE:3
DTSTAMP:20260420T054639Z
URL:http://business.triangleeastchamber.com/events/details/we-cannot-forget-telling-our-stories-of-war-12197
END:VEVENT

END:VCALENDAR
