BEGIN:VCALENDAR
VERSION:2.0
PRODID:-//ChamberMaster//Event Calendar 2.0//EN
METHOD:PUBLISH
X-PUBLISHED-TTL:P3D
REFRESH-INTERVAL:P3D
CALSCALE:GREGORIAN
BEGIN:VEVENT
DTSTART:20220621T130000Z
DTEND:20220621T140000Z
X-MICROSOFT-CDO-ALLDAYEVENT:FALSE
SUMMARY:SizeUpJohnstonCounty Launch
DESCRIPTION:Join the Triangle East Chamber of Commerce and our partner Chambers as we launch a new tool to assist businesses connect\, grow and prosper in Johnston County.\n\n\n\nLocal businesses can now access industry-specific and hyperlocal information to help them grow and make smarter decisions using Big Data analysis. The research is individually customized for each company. By using the website service local businesses can:\n\n	Get your business performance ranking compared to industry competitors\n	Discover potential customers\, vendors\, and better understand your competitive landscape\n	Optimize advertising to target ideal customer segments\n	Analyze customer and employee characteristics around your business.\n\n\n\nSizeUpJohnstonCounty helps to level the competitive business playing field by providing small businesses with similar market research that typically only large corporations can afford.\n\n\n\nTriangle East Chamber invites you to join this live demonstration of this new online service.\n\n\n\nWe will review how you can use SizeUpJohnstonCounty to better succeed. We'll also have time for you to ask questions about this new online service.\n\n\n\nWe look forward to you joining us for this valuable demonstration!
X-ALT-DESC;FMTTYPE=text/html:<span style="font-size:14px\;"><span style="font-family:verdana\;">Join the <strong>Triangle East Chamber of Commerce</strong> and our partner Chambers as we launch a new tool to assist businesses connect\, grow and prosper in Johnston County.<br />\n<br />\n<span style="color: rgb(35\, 35\, 51)\;">Local businesses can now access industry-specific and hyperlocal information to help them grow and make smarter decisions using Big Data analysis. The research is individually customized for each company. By using the website service local businesses can:</span></span></span>\n<ul>\n	<li><span style="font-size:14px\;"><span style="font-family:verdana\;"><span style="color: rgb(35\, 35\, 51)\;">Get your business performance ranking compared to industry competitors</span></span></span></li>\n	<li><span style="font-size:14px\;"><span style="font-family:verdana\;"><span style="color: rgb(35\, 35\, 51)\;">Discover potential customers\, vendors\, and better understand your competitive landscape</span></span></span></li>\n	<li><span style="font-size:14px\;"><span style="font-family:verdana\;"><span style="color: rgb(35\, 35\, 51)\;">Optimize advertising to target ideal customer segments</span></span></span></li>\n	<li><span style="font-size:14px\;"><span style="font-family:verdana\;"><span style="color: rgb(35\, 35\, 51)\;">Analyze customer and employee characteristics around your business.</span></span></span></li>\n</ul>\n<br style="box-sizing: border-box\; color: rgb(35\, 35\, 51)\; font-family: Lato\, Helvetica\, Arial\; font-size: 14px\;" />\n<span style="font-size:14px\;"><span style="font-family:verdana\;"><span style="color: rgb(35\, 35\, 51)\;"><strong>SizeUpJohnstonCounty</strong> helps to level the competitive business playing field by providing small businesses with similar market research that typically only large corporations can afford.</span><br style="box-sizing: border-box\; color: rgb(35\, 35\, 51)\; font-family: Lato\, Helvetica\, Arial\; font-size: 14px\;" />\n<br style="box-sizing: border-box\; color: rgb(35\, 35\, 51)\; font-family: Lato\, Helvetica\, Arial\; font-size: 14px\;" />\n<span style="color: rgb(35\, 35\, 51)\;">Triangle East Chamber invites you to join this live demonstration of this new online service.</span><br style="box-sizing: border-box\; color: rgb(35\, 35\, 51)\; font-family: Lato\, Helvetica\, Arial\; font-size: 14px\;" />\n<br style="box-sizing: border-box\; color: rgb(35\, 35\, 51)\; font-family: Lato\, Helvetica\, Arial\; font-size: 14px\;" />\n<span style="color: rgb(35\, 35\, 51)\;">We will review how you can use <strong>SizeUpJohnstonCounty</strong> to better succeed. We&#39\;ll also have time for you to ask questions about this new online service.</span><br style="box-sizing: border-box\; color: rgb(35\, 35\, 51)\; font-family: Lato\, Helvetica\, Arial\; font-size: 14px\;" />\n<br style="box-sizing: border-box\; color: rgb(35\, 35\, 51)\; font-family: Lato\, Helvetica\, Arial\; font-size: 14px\;" />\n<span style="color: rgb(35\, 35\, 51)\;">We look forward to you joining us for this valuable demonstration!</span></span></span>
LOCATION:This is a virtual event.
UID:e.614.9850
SEQUENCE:3
DTSTAMP:20260422T221658Z
URL:http://business.triangleeastchamber.com/events/details/sizeupjohnstoncounty-launch-9850
END:VEVENT

END:VCALENDAR
