BEGIN:VCALENDAR
VERSION:2.0
PRODID:-//ChamberMaster//Event Calendar 2.0//EN
METHOD:PUBLISH
X-PUBLISHED-TTL:P3D
REFRESH-INTERVAL:P3D
CALSCALE:GREGORIAN
BEGIN:VEVENT
DTSTART:20220115T150000Z
DTEND:20220115T170000Z
X-MICROSOFT-CDO-ALLDAYEVENT:FALSE
SUMMARY:Polar Bear Run
DESCRIPTION:Join us for the 6th Annual Polar Bear Run 5K through Selma. $10 per runner -- pets are free of charge There will NOT be registration the day of the event -- you must pre-register by 4pm\, Friday\, January 15\, 2021. Social distancing rules will apply. Face masks must be worn at check-in but will not be required at start of race. Check in is :15min prior to race start time at the corner of Webb and Waddell streets in Selma. GPS location: 110 E. Waddell Street\, Selma\, NC. RAIN DATE IS: SUNDAY\, JANUARY 16TH SAME TIMES. Run with your DOG\, CAT\, BIRD\, LIZARD\, GOLDFISH\, WHATEVER! (Must clean up if pet makes waste and all pets must be on leash or restrained in cage/carrier) This is an unsanctioned run - Timer will be available for those interested in knowing their run time. Please bring donations: ** Liquid Laundry Detergent ** Liquid Bleach ** Dog / Puppy Food ** Cat / Kitten Food ** Old Blankets / Towels ** Currency / Coins Lots of fun\, pictures and laughs -- See you there! Please call Selma Parks and Recreation for more information. 919-975-1411
X-ALT-DESC;FMTTYPE=text/html:Join us for the 6th Annual Polar Bear Run 5K through Selma. $10 per runner -- pets are free of charge There will NOT be registration the day of the event -- you must pre-register by 4pm\, Friday\, January 15\, 2021. Social distancing rules will apply. Face masks must be worn at check-in but will not be required at start of race. Check in is :15min prior to race start time at the corner of Webb and Waddell streets in Selma. GPS location: 110 E. Waddell Street\, Selma\, NC. RAIN DATE IS: SUNDAY\, JANUARY 16TH SAME TIMES. Run with your DOG\, CAT\, BIRD\, LIZARD\, GOLDFISH\, WHATEVER! (Must clean up if pet makes waste and all pets must be on leash or restrained in cage/carrier) This is an unsanctioned run - Timer will be available for those interested in knowing their run time. Please bring donations: ** Liquid Laundry Detergent ** Liquid Bleach ** Dog / Puppy Food ** Cat / Kitten Food ** Old Blankets / Towels ** Currency / Coins Lots of fun\, pictures and laughs -- See you there! Please call Selma Parks and Recreation for more information. 919-975-1411
LOCATION:Downtown Selma Corner of Webb and Waddell Streets
UID:e.614.9663
SEQUENCE:3
DTSTAMP:20260424T090038Z
URL:http://business.triangleeastchamber.com/events/details/polar-bear-run-01-15-2022-9663
END:VEVENT

END:VCALENDAR
