BEGIN:VCALENDAR
VERSION:2.0
PRODID:-//ChamberMaster//Event Calendar 2.0//EN
METHOD:PUBLISH
X-PUBLISHED-TTL:P3D
REFRESH-INTERVAL:P3D
CALSCALE:GREGORIAN
BEGIN:VEVENT
DTSTART;VALUE=DATE:20221001
DTEND;VALUE=DATE:20221002
TRANSP:TRANSPARENT
X-MICROSOFT-CDO-ALLDAYEVENT:TRUE
SUMMARY:Leadership Johnston Applications Open
DESCRIPTION:Leadership Johnston is accepting applications for the Class of 2023. This program is designed to provide local businesses with an affordable leadership training program that connects them with key people in Johnston County.\n\n\n\nThe 9-month program challenges participants to grow as leaders. Through a variety of experiences including classroom instruction\, panels\, tours\, and interviews participants will be immersed in a supportive professional development atmosphere. Participants will become better communicators\, adept at change management\, understand learning styles and cultural differences\, team building and coaching\, public speaking and presentation\, and develop critical thinking skills. Click Here for more information!
X-ALT-DESC;FMTTYPE=text/html:<p><span style="font-size:14px\;"><span style="font-family:arial\;">Leadership Johnston is accepting applications for the Class of 2023.&nbsp\;This program is designed to provide local businesses with an affordable leadership training program that connects them with key people in Johnston County.<br />\n<br />\nThe 9-month program challenges participants to grow as leaders.&nbsp\;Through a variety of experiences including classroom instruction\, panels\, tours\, and interviews participants will be immersed in a supportive professional development atmosphere. Participants will become better communicators\, adept at change management\, understand learning styles and cultural differences\, team building and coaching\, public speaking and presentation\, and develop critical thinking skills.<a href="https://chambermaster.blob.core.windows.net/userfiles/UserFiles/chambers/614/File/Leadership_Johnston/LJInformationalFlyer.pdf">&nbsp\;</a><a href="https://chambermaster.blob.core.windows.net/userfiles/UserFiles/chambers/614/File/2023LeadershipJohnstonInfoFlyer.pdf">Click Here</a> for more information!</span></span></p>\n
LOCATION:Application is available online
UID:e.614.9898
SEQUENCE:3
DTSTAMP:20260422T073717Z
URL:http://business.triangleeastchamber.com/events/details/leadership-johnston-applications-open-9898
END:VEVENT

END:VCALENDAR
