BEGIN:VCALENDAR
VERSION:2.0
PRODID:-//ChamberMaster//Event Calendar 2.0//EN
METHOD:PUBLISH
X-PUBLISHED-TTL:P3D
REFRESH-INTERVAL:P3D
CALSCALE:GREGORIAN
BEGIN:VEVENT
DTSTART:20220906T213000Z
DTEND:20220906T233000Z
X-MICROSOFT-CDO-ALLDAYEVENT:FALSE
SUMMARY:Launch JoCo Information Session
DESCRIPTION:Launch JoCo supports and develops entrepreneurs and small businesses in the Johnston County region by providing FREE access to business resources\, business training/development services with a seasoned business mentor\, and networking opportunities.\n\n\nThis FREE information session will provide business owners and potential mentors with details about this multi-faceted program. Follow the link to join us to learn more!\n\n\n\nRegister here: https://web.claytonchamber.com/events/Launch-JoCo-Information-Session-Sept-6-1599/register
X-ALT-DESC;FMTTYPE=text/html:<span style="color: rgba(0\, 0\, 0\, 0.9)\; font-family: -apple-system\, system-ui\, BlinkMacSystemFont\, &quot\;Segoe UI&quot\;\, Roboto\, &quot\;Helvetica Neue&quot\;\, &quot\;Fira Sans&quot\;\, Ubuntu\, Oxygen\, &quot\;Oxygen Sans&quot\;\, Cantarell\, &quot\;Droid Sans&quot\;\, &quot\;Apple Color Emoji&quot\;\, &quot\;Segoe UI Emoji&quot\;\, &quot\;Segoe UI Emoji&quot\;\, &quot\;Segoe UI Symbol&quot\;\, &quot\;Lucida Grande&quot\;\, Helvetica\, Arial\, sans-serif\; font-size: 14px\; white-space: pre-line\; background-color: rgb(255\, 255\, 255)\;">Launch JoCo supports and develops entrepreneurs and small businesses in the Johnston County region by providing FREE access to business resources\, business training/development services with a seasoned business mentor\, and networking opportunities.</span>\n<div><br style="box-sizing: inherit\; color: rgba(0\, 0\, 0\, 0.9)\; font-family: -apple-system\, system-ui\, BlinkMacSystemFont\, &quot\;Segoe UI&quot\;\, Roboto\, &quot\;Helvetica Neue&quot\;\, &quot\;Fira Sans&quot\;\, Ubuntu\, Oxygen\, &quot\;Oxygen Sans&quot\;\, Cantarell\, &quot\;Droid Sans&quot\;\, &quot\;Apple Color Emoji&quot\;\, &quot\;Segoe UI Emoji&quot\;\, &quot\;Segoe UI Emoji&quot\;\, &quot\;Segoe UI Symbol&quot\;\, &quot\;Lucida Grande&quot\;\, Helvetica\, Arial\, sans-serif\; font-size: 14px\; white-space: pre-line\; background-color: rgb(255\, 255\, 255)\;" />\n<span style="color: rgba(0\, 0\, 0\, 0.9)\; font-family: -apple-system\, system-ui\, BlinkMacSystemFont\, &quot\;Segoe UI&quot\;\, Roboto\, &quot\;Helvetica Neue&quot\;\, &quot\;Fira Sans&quot\;\, Ubuntu\, Oxygen\, &quot\;Oxygen Sans&quot\;\, Cantarell\, &quot\;Droid Sans&quot\;\, &quot\;Apple Color Emoji&quot\;\, &quot\;Segoe UI Emoji&quot\;\, &quot\;Segoe UI Emoji&quot\;\, &quot\;Segoe UI Symbol&quot\;\, &quot\;Lucida Grande&quot\;\, Helvetica\, Arial\, sans-serif\; font-size: 14px\; white-space: pre-line\; background-color: rgb(255\, 255\, 255)\;">This FREE information session will provide business owners and potential mentors with details about this multi-faceted program. Follow the link to join us to learn more!</span><br />\n<br />\nRegister here:&nbsp\;https://web.claytonchamber.com/events/Launch-JoCo-Information-Session-Sept-6-1599/register</div>\n
LOCATION:101 E Market St\, Smithfield\, North Carolina\, US\, 27577
UID:e.614.9892
SEQUENCE:3
DTSTAMP:20260424T155308Z
URL:http://business.triangleeastchamber.com/events/details/launch-joco-information-session-9892
END:VEVENT

END:VCALENDAR
