BEGIN:VCALENDAR
VERSION:2.0
PRODID:-//ChamberMaster//Event Calendar 2.0//EN
METHOD:PUBLISH
X-PUBLISHED-TTL:P3D
REFRESH-INTERVAL:P3D
CALSCALE:GREGORIAN
BEGIN:VEVENT
DTSTART:20220629T220000Z
DTEND:20220630T000000Z
X-MICROSOFT-CDO-ALLDAYEVENT:FALSE
SUMMARY:Johnston County Comprehensive Plan Public Meeting
DESCRIPTION:The Johnston County Comprehensive Land Use Plan is nearing completion following a year of public meetings\, committee hearings\, surveys\, studies and discussions. The plan will be used to guide growth and development in our community for the next 20 years.\n\nThe next public forum will take place on Wednesday\, June 29\, 2022 at the Johnston County Agricultural Center auditorium at 6:00 p.m. The planning department will present the draft plan for public feedback. Residents are encouraged to attend the forum to voice their opinions on land use\, growth management\, transportation\, resource conservation and the overall vision for the future of Johnston County. There will be a brief presentation at 6:30 p.m. followed by a question and answer period\, and an informal open house session. \n\n"The County's new comprehensive plan\, Envision Johnston\, is nearing completion and we look forward to seeing the public on June 29th\," said County planning director Braston Newton. "Our project team will be present to answer questions and hear your opinions."\n\nThe Agricultural Center is located at 2736 NC Hwy. 210\, Smithfield\, NC 27577. For more information visit the planning department's website.
X-ALT-DESC;FMTTYPE=text/html:<p style="box-sizing: border-box\; margin: 0px 0px 10px\; font-size: 1.25em\; line-height: 1.6\; font-family: &quot\;Open Sans&quot\;\, &quot\;Helvetica Neue&quot\;\, Helvetica\, Arial\, sans-serif\; background-color: rgba(255\, 255\, 255\, 0.9)\;">&nbsp\;The Johnston County Comprehensive Land Use Plan is nearing completion&nbsp\;following a year of public meetings\, committee hearings\, surveys\, studies and discussions. The plan will be used to guide growth and development in our community for the next 20 years.</p>\n\n<p style="box-sizing: border-box\; margin: 0px 0px 10px\; font-size: 1.25em\; line-height: 1.6\; font-family: &quot\;Open Sans&quot\;\, &quot\;Helvetica Neue&quot\;\, Helvetica\, Arial\, sans-serif\; background-color: rgba(255\, 255\, 255\, 0.9)\;">The next public forum will take&nbsp\;place on Wednesday\, June 29\, 2022 at the Johnston County Agricultural Center auditorium at 6:00 p.m. The planning department will present the draft plan for public feedback. Residents are encouraged to attend the forum to voice their opinions on land use\, growth&nbsp\;management\, transportation\, resource conservation and the overall vision for the future of Johnston County. There will be a brief presentation at 6:30 p.m. followed by a question and answer period\, and an informal open house session.&nbsp\;</p>\n\n<p style="box-sizing: border-box\; margin: 0px 0px 10px\; font-size: 1.25em\; line-height: 1.6\; font-family: &quot\;Open Sans&quot\;\, &quot\;Helvetica Neue&quot\;\, Helvetica\, Arial\, sans-serif\; background-color: rgba(255\, 255\, 255\, 0.9)\;">&quot\;The County&#39\;s new comprehensive plan\, Envision Johnston\, is nearing completion and we look forward to seeing the public on June 29th\,&quot\; said County planning director Braston Newton. &quot\;Our project team will be present to answer questions and hear your opinions.&quot\;</p>\n\n<p style="box-sizing: border-box\; margin: 0px 0px 10px\; font-size: 1.25em\; line-height: 1.6\; font-family: &quot\;Open Sans&quot\;\, &quot\;Helvetica Neue&quot\;\, Helvetica\, Arial\, sans-serif\; background-color: rgba(255\, 255\, 255\, 0.9)\;">The&nbsp\;Agricultural Center is located at 2736 NC Hwy. 210\, Smithfield\, NC 27577. For more information visit the planning department&#39\;s&nbsp\;<a data-uw-rm-brl="false" href="https://www.johnstonnc.com/planning" style="box-sizing: border-box\; background-color: transparent\; color: rgb(51\, 122\, 183)\; text-decoration-line: none\; overflow-wrap: break-word\;">website</a>.</p>\n
LOCATION:The Agricultural Center 2736 NC Hwy 210 Smithfield\, NC 27577
UID:e.614.9852
SEQUENCE:3
DTSTAMP:20260423T005126Z
URL:http://business.triangleeastchamber.com/events/details/johnston-county-comprehensive-plan-public-meeting-9852
END:VEVENT

END:VCALENDAR
