BEGIN:VCALENDAR
VERSION:2.0
PRODID:-//ChamberMaster//Event Calendar 2.0//EN
METHOD:PUBLISH
X-PUBLISHED-TTL:P3D
REFRESH-INTERVAL:P3D
CALSCALE:GREGORIAN
BEGIN:VEVENT
DTSTART:20211106T130000Z
DTEND:20211106T180000Z
X-MICROSOFT-CDO-ALLDAYEVENT:FALSE
SUMMARY:6th Annual Touch-A-Truck
DESCRIPTION:Touch-A-Truck is a unique and interactive fundraiser that allows children to see\, touch\, and safely explore their favorite big trucks and heavy machinery\, as well as to meet the personnel who protect\, serve\, and build Johnston County communities. Trucks on display will include emergency vehicles\, tractors\, machinery\, construction equipment\, farm equipment\, service and delivery trucks\, and more. This event will also include food trucks\, inflatables\, special guests\, face painting\, and so much more! There is fun for children and adults alike! Admission is FREE! $5 wristbands will be available to purchase for inflatables\, face painting\, etc. Proceeds from Touch-A-Truck will benefit House of Hope of North Carolina in Clayton\, a family service that provides a residence and counseling for hurting and abused teenage girls\, as well as support for their families.
X-ALT-DESC;FMTTYPE=text/html:Touch-A-Truck is a unique and interactive fundraiser that allows children to see\, touch\, and safely explore their favorite big trucks and heavy machinery\, as well as to meet the personnel who protect\, serve\, and build Johnston County communities. Trucks on display will include emergency vehicles\, tractors\, machinery\, construction equipment\, farm equipment\, service and delivery trucks\, and more. This event will also include food trucks\, inflatables\, special guests\, face painting\, and so much more! There is fun for children and adults alike! Admission is FREE! $5 wristbands will be available to purchase for inflatables\, face painting\, etc. Proceeds from Touch-A-Truck will benefit House of Hope of North Carolina in Clayton\, a family service that provides a residence and counseling for hurting and abused teenage girls\, as well as support for their families.
LOCATION:Downtown Smithfield
UID:e.614.9600
SEQUENCE:3
DTSTAMP:20260424T203727Z
URL:http://business.triangleeastchamber.com/events/details/6th-annual-touch-a-truck-9600
END:VEVENT

END:VCALENDAR
