BEGIN:VCALENDAR
VERSION:2.0
PRODID:-//ChamberMaster//Event Calendar 2.0//EN
METHOD:PUBLISH
X-PUBLISHED-TTL:P3D
REFRESH-INTERVAL:P3D
CALSCALE:GREGORIAN
BEGIN:VEVENT
DTSTART:20211119T220000Z
DTEND:20211120T020000Z
X-MICROSOFT-CDO-ALLDAYEVENT:FALSE
SUMMARY:2021 Harbor Downtown Smithfield Wine Walk
DESCRIPTION:Our Wine Walk is back!  Harbor is very pleased to announce the return of the Harbor\, Inc. Downtown Smithfield Wine Walk on Friday\, November 19\, 2021.  \n\n \n\nThe Wine Walk will take place from 5:00-9:00 p.m.\, when walkers will visit participating businesses in the downtown district to sample a different wine at each of the participating businesses. Walkers will begin at Raymond James Financial\, located at 310 Bridge Street in Downtown Smithfield.  There\, walkers will be given commemorative wine glasses and a wristband to wear\, which will allow them to taste wines at other businesses. Tickets for the Wine Walk can be purchased for $25 in advance at https://harborshelter.org/product/wine-walk-2010-sponsorships/\, or at the event for $30.\n\n \n\nBusinesses participating in the 2021 Downtown Smithfield Wine Walk include Raymond James Financial\, Amaze Adventures & Beyond\, Classy C's Boutique\, The Gilded Pear\, The Twisted Willow\, Urban Misfits\, LLC\, Sami's Pizza & Pasta\, 12/20 Boutique\, John Michael's Artistic Hair Team\, MedicalTraining.me\, SoDoSoPa\, the Oak City Collection\, Evans Jewelers and the Johnston County Heritage Center.  Many of the businesses will be hosting special events in conjunction with the Wine Walk\, including extended shopping hours\, special sales\, giveaways\, and entertainment.\n\n \n\n"We are so excited to be able to have the Wine Walk again\," states Kay Johnson\, Executive Director of Harbor\, Inc.  "It is a beloved community event that many people look forward to each year\, and we are so appreciative of the community's support of this event and for Harbor in general. This special event is instrumental in supporting Harbor and its programs through the year.  The money raised from this event really does save lives".\n\n \n\nHarbor is Johnston County's only nonprofit agency providing service and assistance to victims of domestic violence\, sexual assault and women in transition. Harbor provides safe\, compassionate\, and advocacy services\, resources\, and programs. Harbor has a team of highly credentialed and experienced staff and volunteers who work diligently to assist women and children in need.  To learn more about Harbor\, visit harborshelter.org.
X-ALT-DESC;FMTTYPE=text/html:<span style="color:black"><span style="font-family:arial\,sans-serif">Our Wine Walk is back!&nbsp\; Harbor is very pleased to announce the return of the Harbor\, Inc. Downtown Smithfield Wine Walk on Friday\, November 19\, 2021.&nbsp\; </span></span><br />\n<span style="color:black"><span style="font-family:arial\,sans-serif">&nbsp\;<br />\nThe Wine Walk will take place from 5:00-9:00 p.m.\, when walkers will visit participating businesses in the downtown district to sample a different wine at each of the participating businesses. Walkers will begin at Raymond James Financial\, located at 310 Bridge Street in Downtown Smithfield. &nbsp\;There\, walkers will be given commemorative wine glasses and a wristband to wear\, which will allow them to taste wines at other businesses. Tickets for the Wine Walk can be purchased for $25 in advance at </span></span>https://harborshelter.org/product/wine-walk-2010-sponsorships/<span style="color:black"><span style="font-family:arial\,sans-serif">\, or at the event for $30.</span></span><br />\n&nbsp\;<br />\n<span style="color:black"><span style="font-family:arial\,sans-serif">Businesses participating in the 2021 Downtown Smithfield Wine Walk include Raymond James Financial\, Amaze Adventures &amp\; Beyond\, Classy C&#39\;s Boutique\, The Gilded Pear\, The Twisted Willow\, Urban Misfits\, LLC\, Sami&#39\;s Pizza &amp\; Pasta\, 12/20 Boutique\, John Michael&#39\;s Artistic Hair Team\, MedicalTraining.me\, SoDoSoPa\, the Oak City Collection\, Evans Jewelers and the Johnston County Heritage Center.&nbsp\; Many of the businesses will be hosting special events in conjunction with the Wine Walk\, including extended shopping hours\, special sales\, giveaways\, and entertainment.</span></span><br />\n&nbsp\;<br />\n<span style="color:black"><span style="font-family:arial\,sans-serif">&ldquo\;We are so excited to be able to have the Wine Walk again\,&rdquo\; states Kay Johnson\, Executive Director of Harbor\, Inc.&nbsp\; &ldquo\;It is a beloved community event that many people look forward to each year\, and we are so appreciative of the community&rsquo\;s support of this event and for Harbor in general. This special event is instrumental in supporting Harbor and its programs through the year.&nbsp\; The money raised from this event really does save lives&quot\;.</span></span><br />\n<span style="color:black"><span style="font-family:arial\,sans-serif">&nbsp\;<br />\nHarbor is Johnston County&#39\;s only nonprofit agency providing service and assistance to victims of domestic violence\, sexual assault and women in transition. Harbor provides safe\, compassionate\, and advocacy services\, resources\, and programs. Harbor has a team of highly credentialed and experienced staff and volunteers who work diligently to assist women and children in need.&nbsp\;</span></span><span style="font-family:arial\,sans-serif"> To learn more about Harbor\, visit harborshelter.org.</span><br />\n&nbsp\;
LOCATION:The Wine Walk starts at Raymond James Financial\, located at 310 Bridge Street in Downtown Smithfield. Pick up your complimentary wine glass and your wristband there.
UID:e.614.9616
SEQUENCE:3
DTSTAMP:20260424T202209Z
URL:http://business.triangleeastchamber.com/events/details/2021-harbor-downtown-smithfield-wine-walk-9616
END:VEVENT

END:VCALENDAR
